BEGIN:VCALENDAR
VERSION:2.0
PRODID:-//https://vlaanderen.hcc.nl///NONSGML kigkonsult.se iCalcreator 2.10.15//
METHOD:PUBLISH
BEGIN:VEVENT
UID:20260423T141625CEST-7120Ijujax@https://vlaanderen.hcc.nl/
DTSTAMP:20260423T121625Z
DESCRIPTION:Op de eerste maandag van de maand digicafé in Tisselt.\nHet alg
 emene programma:\n\ninternet\, lokaal netwerk\, connectiviteit\;\ninstalla
 tie of configuratie van hard- en software\;\nWindows PC/laptop\, ...\nLinu
 x (Ubuntu\, Mint\, Fedora\, ...) & Open Source\;\nTablet\, smartphone -- A
 ndroid\, iOS\, ...\n\n \nElke geïnteresseerde computer- / tablet- / smartp
 hone-gebruiker is welkom: om de sfeer te proeven\, om kennis te maken met 
 onze leden en hun ICT-bezigheden\, om ervaringen uit te wisselen\, om nieu
 we dingen te ontdekken en om oplossingen voor hard- en softwarevraagstukke
 n te vinden.\n  https://vlaanderen.hcc.nl/rss-events/evenement/112-fanfare
 lokaal-bingo
DTSTART:20260504T180000Z
DTEND:20260504T210000Z
LOCATION:Fanfarelokaal Bingo (Blaasveldstraat 29\, 2830    Tisselt)
SUMMARY:Fanfarelokaal Bingo
URL:https://vlaanderen.hcc.nl/rss-events/evenement/112-fanfarelokaal-bingo
END:VEVENT
BEGIN:VEVENT
UID:20260423T141625CEST-71228W5uLj@https://vlaanderen.hcc.nl/
DTSTAMP:20260423T121625Z
DESCRIPTION:Uitzonderlijk op de vierde vrijdag van de maand digicafé in Wez
 embeek-Oppem.\nHet algemene programma:\n\ninternet\, lokaal netwerk\, conn
 ectiviteit\;\ninstallatie of configuratie van hard- en software\;\nWindows
  PC/laptop\, ...\nLinux (Ubuntu\, Mint\, Fedora\, ...) & Open Source\;\nTa
 blet\, smartphone -- Android\, iOS\, ...\n\nElke geïnteresseerde computer-
  / tablet- / smartphone-gebruiker is welkom: om de sfeer te proeven\, om k
 ennis te maken met onze leden en hun ICT-bezigheden\, om ervaringen uit te
  wisselen\, om nieuwe dingen te ontdekken en om oplossingen voor hard- en 
 softwarevraagstukken te vinden.\n  https://vlaanderen.hcc.nl/rss-events/ev
 enement/113-gc-de-kam
DTSTART:20260522T180000Z
DTEND:20260522T210000Z
LOCATION:GC De Kam (Beekstraat 172\, 1970    Wezembeek-Oppem)
SUMMARY:GC De Kam
URL:https://vlaanderen.hcc.nl/rss-events/evenement/113-gc-de-kam
END:VEVENT
BEGIN:VEVENT
UID:20260423T141625CEST-712492exkA@https://vlaanderen.hcc.nl/
DTSTAMP:20260423T121625Z
DESCRIPTION:Op de derde vrijdag van de maand digicafé in Wezembeek-Oppem.\n
 Het algemene programma:\n\ninternet\, lokaal netwerk\, connectiviteit\;\ni
 nstallatie of configuratie van hard- en software\;\nWindows PC/laptop\, ..
 .\nLinux (Ubuntu\, Mint\, Fedora\, ...) & Open Source\;\nTablet\, smartpho
 ne -- Android\, iOS\, ...\n\nElke geïnteresseerde computer- / tablet- / sm
 artphone-gebruiker is welkom: om de sfeer te proeven\, om kennis te maken 
 met onze leden en hun ICT-bezigheden\, om ervaringen uit te wisselen\, om 
 nieuwe dingen te ontdekken en om oplossingen voor hard- en softwarevraagst
 ukken te vinden. https://vlaanderen.hcc.nl/rss-events/evenement/114-gc-de-
 kam
DTSTART:20260619T180000Z
DTEND:20260619T210000Z
LOCATION:GC De Kam (Beekstraat 172\, 1970    Wezembeek-Oppem)
SUMMARY:GC De Kam
URL:https://vlaanderen.hcc.nl/rss-events/evenement/114-gc-de-kam
END:VEVENT
BEGIN:VEVENT
UID:20260423T141625CEST-7125hHFhnO@https://vlaanderen.hcc.nl/
DTSTAMP:20260423T121625Z
DESCRIPTION:Op de eerste maandag van de maand digicafé in Tisselt.\nHet alg
 emene programma:\n\ninternet\, lokaal netwerk\, connectiviteit\;\ninstalla
 tie of configuratie van hard- en software\;\nWindows PC/laptop\, ...\nLinu
 x (Ubuntu\, Mint\, Fedora\, ...) & Open Source\;\nTablet\, smartphone -- A
 ndroid\, iOS\, ...\n\nElke geïnteresseerde computer- / tablet- / smartphon
 e-gebruiker is welkom: om de sfeer te proeven\, om kennis te maken met onz
 e leden en hun ICT-bezigheden\, om ervaringen uit te wisselen\, om nieuwe 
 dingen te ontdekken en om oplossingen voor hard- en softwarevraagstukken t
 e vinden. https://vlaanderen.hcc.nl/rss-events/evenement/115-fanfarelokaal
 -bingo
DTSTART:20260601T180000Z
DTEND:20260601T210000Z
LOCATION:Fanfarelokaal Bingo (Blaasveldstraat 29\, 2830    Tisselt)
SUMMARY:Fanfarelokaal Bingo
URL:https://vlaanderen.hcc.nl/rss-events/evenement/115-fanfarelokaal-bingo
END:VEVENT
END:VCALENDAR
